BEGIN:VCALENDAR
VERSION:2.0
PRODID:-//Dresdner Gehörlosen Sportverein 1920 e.V. - ECPv6.15.20//NONSGML v1.0//EN
CALSCALE:GREGORIAN
METHOD:PUBLISH
X-WR-CALNAME:Dresdner Gehörlosen Sportverein 1920 e.V.
X-ORIGINAL-URL:https://dgsv1920.de
X-WR-CALDESC:Veranstaltungen für Dresdner Gehörlosen Sportverein 1920 e.V.
REFRESH-INTERVAL;VALUE=DURATION:PT1H
X-Robots-Tag:noindex
X-PUBLISHED-TTL:PT1H
BEGIN:VTIMEZONE
TZID:Europe/Berlin
BEGIN:DAYLIGHT
TZOFFSETFROM:+0100
TZOFFSETTO:+0200
TZNAME:CEST
DTSTART:20250330T010000
END:DAYLIGHT
BEGIN:STANDARD
TZOFFSETFROM:+0200
TZOFFSETTO:+0100
TZNAME:CET
DTSTART:20251026T010000
END:STANDARD
BEGIN:DAYLIGHT
TZOFFSETFROM:+0100
TZOFFSETTO:+0200
TZNAME:CEST
DTSTART:20260329T010000
END:DAYLIGHT
BEGIN:STANDARD
TZOFFSETFROM:+0200
TZOFFSETTO:+0100
TZNAME:CET
DTSTART:20261025T010000
END:STANDARD
BEGIN:DAYLIGHT
TZOFFSETFROM:+0100
TZOFFSETTO:+0200
TZNAME:CEST
DTSTART:20270328T010000
END:DAYLIGHT
BEGIN:STANDARD
TZOFFSETFROM:+0200
TZOFFSETTO:+0100
TZNAME:CET
DTSTART:20271031T010000
END:STANDARD
END:VTIMEZONE
BEGIN:VEVENT
DTSTART;VALUE=DATE:20260423
DTEND;VALUE=DATE:20260426
DTSTAMP:20260423T114917
CREATED:20260122T204430Z
LAST-MODIFIED:20260122T204430Z
UID:13614-1776902400-1777161599@dgsv1920.de
SUMMARY:Dt. Gl. Bowling Meisterschaft
DESCRIPTION:Dt. Geh. Bowling Meisterschaft
URL:https://dgsv1920.de/event/dt-gl-bowling-meisterschaft/
LOCATION:Mannheim
CATEGORIES:Bowling
ATTACH;FMTTYPE=image/png:https://dgsv1920.de/wp-content/uploads/bowling.png
END:VEVENT
END:VCALENDAR